{ "currentVersion": 11.5, "cimVersion": "3.5.0", "serviceDescription": "
The <\/span>Scottish Bracken Map <\/span><\/a>provides a baseline for monitoring the distribution of bracken (Pteridium aquilinum) at 10 metre resolution across Scotland. It was commissioned by the Scottish Government following the ban on usage of the herbicide Asulam, and supported by the <\/span>Scottish Bracken Working Group <\/span><\/a>as part of their aim to address key evidence gaps relating to the extent and management of bracken in Scotland. The dataset is intended to support monitoring, land management, environmental assessment and future updates of national bracken extent.<\/span><\/p> <\/p> The dataset is supplied as two related outputs:<\/span><\/p> <\/p> - Bracken Classification: a binary map identifying areas predicted to contain bracken vegetation.<\/span><\/p> <\/p> - Bracken Probability: a continuous raster showing the modelled probability (0-100%) of bracken presence for each 10 m pixel, allowing users to apply alternative thresholds according to their requirements.<\/span><\/p> <\/p> The Bracken Map was derived using Earth Observation and machine learning techniques applied to 2024 satellite and environmental data. The model was based on summer and autumn composites of Sentinel-1 radar imagery and Sentinel-2 optical imagery (NDVI maximum composites), elevation and canopy height data, and training data from field surveys and habitat mapping sources.<\/span><\/p> <\/p> The final classification achieved an overall accuracy of approximately 85% (88% recall and 79% precision) and identified around 208,000 hectares of bracken across Scotland.<\/span><\/p><\/div>",
"mapName": "BrackenClassification",
"description": "The Scottish Bracken Map provides a baseline for monitoring the distribution of bracken (Pteridium aquilinum) at 10 metre resolution across Scotland. It was commissioned by the Scottish Government following the ban on usage of the herbicide Asulam, and supported by the Scottish Bracken Working Group as part of their aim to address key evidence gaps relating to the extent and management of bracken in Scotland. The dataset is intended to support monitoring, land management, environmental assessment and future updates of national bracken extent.The dataset is supplied as two related outputs:- Bracken Classification: a binary map identifying areas predicted to contain bracken vegetation.- Bracken Probability: a continuous raster showing the modelled probability (0-100%) of bracken presence for each 10 m pixel, allowing users to apply alternative thresholds according to their requirements.The Bracken Map was derived using Earth Observation and machine learning techniques applied to 2024 satellite and environmental data. The model was based on summer and autumn composites of Sentinel-1 radar imagery and Sentinel-2 optical imagery (NDVI maximum composites), elevation and canopy height data, and training data from field surveys and habitat mapping sources.The final classification achieved an overall accuracy of approximately 85% (88% recall and 79% precision) and identified around 208,000 hectares of bracken across Scotland.",
"copyrightText": "© Scottish Government, Crown copyright and database right 2026.",
"supportsDynamicLayers": true,
"layers": [
{
"id": 0,
"name": "ScottishBrackenClassification2024",
"parentLayerId": -1,
"defaultVisibility": true,
"subLayerIds": null,
"minScale": 0,
"maxScale": 0,
"type": "Raster Layer",
"supportsDynamicLegends": true
}
],
"tables": [],
"spatialReference": {
"wkid": 27700,
"latestWkid": 27700,
"xyTolerance": 0.001,
"zTolerance": 0.001,
"mTolerance": 0.001,
"falseX": -5220400,
"falseY": -15524400,
"xyUnits": 10000,
"falseZ": -100000,
"zUnits": 10000,
"falseM": -100000,
"mUnits": 10000
},
"singleFusedMapCache": true,
"tileInfo": {
"rows": 256,
"cols": 256,
"dpi": 96,
"format": "Mixed",
"compressionQuality": 75,
"origin": {
"x": -9597137.348713825,
"y": 4470073.533885086
},
"spatialReference": {
"wkid": 27700,
"latestWkid": 27700,
"xyTolerance": 0.001,
"zTolerance": 0.001,
"mTolerance": 0.001,
"falseX": -5220400,
"falseY": -15524400,
"xyUnits": 10000,
"falseZ": -100000,
"zUnits": 10000,
"falseM": -100000,
"mUnits": 10000
},
"lods": [
{
"level": 0,
"resolution": 78102.63553682675,
"scale": 2.9519106344627434E8
},
{
"level": 1,
"resolution": 39051.31776841338,
"scale": 1.4759553172313717E8
},
{
"level": 2,
"resolution": 19525.65888420669,
"scale": 7.379776586156859E7
},
{
"level": 3,
"resolution": 9762.829442103344,
"scale": 3.689888293078429E7
},
{
"level": 4,
"resolution": 4881.414721051672,
"scale": 1.8449441465392146E7
},
{
"level": 5,
"resolution": 2440.707360525836,
"scale": 9224720.732696073
},
{
"level": 6,
"resolution": 1220.353680262918,
"scale": 4612360.366348037
},
{
"level": 7,
"resolution": 610.176840131459,
"scale": 2306180.1831740183
},
{
"level": 8,
"resolution": 305.0884200657295,
"scale": 1153090.0915870091
},
{
"level": 9,
"resolution": 152.54421003286475,
"scale": 576545.0457935046
},
{
"level": 10,
"resolution": 76.27210501643238,
"scale": 288272.5228967523
},
{
"level": 11,
"resolution": 38.13605250821619,
"scale": 144136.26144837614
},
{
"level": 12,
"resolution": 19.068026254108094,
"scale": 72068.13072418807
},
{
"level": 13,
"resolution": 9.534013127054047,
"scale": 36034.065362094036
},
{
"level": 14,
"resolution": 4.767006563527024,
"scale": 18017.032681047018
},
{
"level": 15,
"resolution": 2.383503281763512,
"scale": 9008.516340523509
},
{
"level": 16,
"resolution": 1.191751640881756,
"scale": 4504.2581702617545
},
{
"level": 17,
"resolution": 0.595875820440878,
"scale": 2252.1290851308772
},
{
"level": 18,
"resolution": 0.297937910220439,
"scale": 1126.0645425654386
},
{
"level": 19,
"resolution": 0.1489689551102195,
"scale": 563.0322712827193
},
{
"level": 20,
"resolution": 0.07448447755510974,
"scale": 281.51613564135965
},
{
"level": 21,
"resolution": 0.03724223877755487,
"scale": 140.75806782067983
},
{
"level": 22,
"resolution": 0.018621119388777436,
"scale": 70.37903391033991
},
{
"level": 23,
"resolution": 0.009310559694388718,
"scale": 35.18951695516996
}
]
},
"storageInfo": {
"storageFormat": "esriMapCacheStorageModeCompactV2",
"packetSize": 128
},
"initialExtent": {
"xmin": -88673.1342105263,
"ymin": 495747.00000000006,
"xmax": 564523.1342105262,
"ymax": 1254813,
"spatialReference": {
"wkid": 27700,
"latestWkid": 27700,
"xyTolerance": 0.001,
"zTolerance": 0.001,
"mTolerance": 0.001,
"falseX": -5220400,
"falseY": -15524400,
"xyUnits": 10000,
"falseZ": -100000,
"zUnits": 10000,
"falseM": -100000,
"mUnits": 10000
}
},
"fullExtent": {
"xmin": 5510,
"ymin": 530250,
"xmax": 470340,
"ymax": 1220310,
"spatialReference": {
"wkid": 27700,
"latestWkid": 27700,
"xyTolerance": 0.001,
"zTolerance": 0.001,
"mTolerance": 0.001,
"falseX": -5220400,
"falseY": -15524400,
"xyUnits": 10000,
"falseZ": -100000,
"zUnits": 10000,
"falseM": -100000,
"mUnits": 10000
}
},
"datesInUnknownTimezone": false,
"minScale": 1.8449441465392146E7,
"maxScale": 18017.032681047018,
"minLOD": 4,
"maxLOD": 14,
"units": "esriMeters",
"supportedImageFormatTypes": "PNG32,PNG24,PNG,JPG,DIB,TIFF,EMF,PS,PDF,GIF,SVG,SVGZ,BMP",
"documentInfo": {
"Title": "Scottish Bracken Classification 2024",
"Author": "",
"Comments": "The Scottish Bracken Map provides a baseline for monitoring the distribution of bracken (Pteridium aquilinum) at 10 metre resolution across Scotland. It was commissioned by the Scottish Government following the ban on usage of the herbicide Asulam, and supported by the Scottish Bracken Working Group as part of their aim to address key evidence gaps relating to the extent and management of bracken in Scotland. The dataset is intended to support monitoring, land management, environmental assessment and future updates of national bracken extent.The dataset is supplied as two related outputs:- Bracken Classification: a binary map identifying areas predicted to contain bracken vegetation.- Bracken Probability: a continuous raster showing the modelled probability (0-100%) of bracken presence for each 10 m pixel, allowing users to apply alternative thresholds according to their requirements.The Bracken Map was derived using Earth Observation and machine learning techniques applied to 2024 satellite and environmental data. The model was based on summer and autumn composites of Sentinel-1 radar imagery and Sentinel-2 optical imagery (NDVI maximum composites), elevation and canopy height data, and training data from field surveys and habitat mapping sources.The final classification achieved an overall accuracy of approximately 85% (88% recall and 79% precision) and identified around 208,000 hectares of bracken across Scotland.",
"Subject": "This dataset provides 10m resolution mapping of the probability of bracken presence in Scotland in 2024. It was commissioned by the Scottish Government as part of the Scottish Bracken Map publication in order to monitor the environmental and landscape impacts of bracken and help to quantify efforts to control it.",
"Category": "",
"Version": "3.7.0",
"AntialiasingMode": "Fast",
"TextAntialiasingMode": "Force",
"Keywords": "Bracken,fern,land cover,remote sensing,undergrowth,vegetation,weed"
},
"supportsQueryDomains": true,
"capabilities": "Map,Query,Data,TileMap",
"supportedQueryFormats": "JSON, geoJSON, PBF",
"exportTilesAllowed": false,
"referenceScale": 0.0,
"datumTransformations": [
{
"geoTransforms": [
{
"wkid": 1149,
"latestWkid": 1149,
"transformForward": false,
"name": "ETRS_1989_To_WGS_1984"
},
{
"wkid": 5338,
"latestWkid": 5338,
"transformForward": false,
"name": "OSGB_1936_To_ETRS_1989_1"
}
]
}
],
"supportsDatumTransformation": true,
"archivingInfo": {"supportsHistoricMoment": false},
"supportsClipping": true,
"supportsSpatialFilter": true,
"supportsTimeRelation": true,
"supportsQueryDataElements": true,
"mapUnits": {"uwkid": 9001},
"maxSelectionCount": 2000,
"maxRecordCount": 2000,
"maxImageHeight": 4096,
"maxImageWidth": 4096,
"supportedExtensions": "WMSServer"
}