{
 "currentVersion": 11.5,
 "cimVersion": "3.5.0",
 "serviceDescription": " The Scottish Index of Multiple Deprivation (SIMD) 2020 is the Scottish Government\u2019s official tool for identifying concentrations of deprivation in Scotland. SIMD20 is the Scottish Government\u2019s sixth edition since 2004. The Scottish Index of Multiple Deprivation (SIMD) combines seven different domains (aspects) of deprivation: income; employment; health; education, skills and training; geographic access to services; crime; and housing. These domains are measured using a number of indicators to form ranks for each domain. Data zones are ranked from 1 being most deprived to 6,976 being least deprived. Each of the seven domain ranks are then combined to form the overall SIMD. This provides a measure of relative deprivation at data zone level, so it tells you that one data zone is relatively more deprived than another but not how much more deprived.<\/span><\/p><\/div>",
 "mapName": "SIMD2020",
 "description": "The Scottish Index of Multiple Deprivation (SIMD) 2020 is the Scottish Government\u2019s official tool for identifying concentrations of deprivation in Scotland. SIMD20 is the Scottish Government\u2019s sixth edition since 2004. The Scottish Index of Multiple Deprivation (SIMD) combines seven different domains (aspects) of deprivation: income; employment; health; education, skills and training; geographic access to services; crime; and housing. These domains are measured using a number of indicators to form ranks for each domain. Data zones are ranked from 1 being most deprived to 6,976 being least deprived. Each of the seven domain ranks are then combined to form the overall SIMD. This provides a measure of relative deprivation at data zone level, so it tells you that one data zone is relatively more deprived than another but not how much more deprived.",
 "copyrightText": "Scottish Government, contains Ordnance Survey data © Crown copyright and database right 2020.",
 "supportsDynamicLayers": true,
 "layers": [
  {
   "id": 0,
   "name": "SIMD2020",
   "parentLayerId": -1,
   "defaultVisibility": true,
   "subLayerIds": null,
   "minScale": 0,
   "maxScale": 0,
   "type": "Feature Layer",
   "geometryType": "esriGeometryPolygon",
   "supportsDynamicLegends": true
  }
 ],
 "tables": [],
 "spatialReference": {
  "wkid": 27700,
  "latestWkid": 27700,
  "xyTolerance": 0.001,
  "zTolerance": 0.001,
  "mTolerance": 0.001,
  "falseX": -5220400,
  "falseY": -15524400,
  "xyUnits": 10000,
  "falseZ": -100000,
  "zUnits": 10000,
  "falseM": -100000,
  "mUnits": 10000
 },
 "singleFusedMapCache": true,
 "tileInfo": {
  "rows": 256,
  "cols": 256,
  "dpi": 96,
  "format": "PNG",
  "compressionQuality": 0,
  "origin": {
   "x": -9597137.348713825,
   "y": 4470073.533885086
  },
  "spatialReference": {
   "wkid": 27700,
   "latestWkid": 27700,
   "xyTolerance": 0.001,
   "zTolerance": 0.001,
   "mTolerance": 0.001,
   "falseX": -5220400,
   "falseY": -15524400,
   "xyUnits": 10000,
   "falseZ": -100000,
   "zUnits": 10000,
   "falseM": -100000,
   "mUnits": 10000
  },
  "lods": [
   {
    "level": 0,
    "resolution": 78102.63553682675,
    "scale": 2.9519106344627434E8
   },
   {
    "level": 1,
    "resolution": 39051.31776841338,
    "scale": 1.4759553172313717E8
   },
   {
    "level": 2,
    "resolution": 19525.65888420669,
    "scale": 7.379776586156859E7
   },
   {
    "level": 3,
    "resolution": 9762.829442103344,
    "scale": 3.689888293078429E7
   },
   {
    "level": 4,
    "resolution": 4881.414721051672,
    "scale": 1.8449441465392146E7
   },
   {
    "level": 5,
    "resolution": 2440.707360525836,
    "scale": 9224720.732696073
   },
   {
    "level": 6,
    "resolution": 1220.353680262918,
    "scale": 4612360.366348037
   },
   {
    "level": 7,
    "resolution": 610.176840131459,
    "scale": 2306180.1831740183
   },
   {
    "level": 8,
    "resolution": 305.0884200657295,
    "scale": 1153090.0915870091
   },
   {
    "level": 9,
    "resolution": 152.54421003286475,
    "scale": 576545.0457935046
   },
   {
    "level": 10,
    "resolution": 76.27210501643238,
    "scale": 288272.5228967523
   },
   {
    "level": 11,
    "resolution": 38.13605250821619,
    "scale": 144136.26144837614
   },
   {
    "level": 12,
    "resolution": 19.068026254108094,
    "scale": 72068.13072418807
   },
   {
    "level": 13,
    "resolution": 9.534013127054047,
    "scale": 36034.065362094036
   },
   {
    "level": 14,
    "resolution": 4.767006563527024,
    "scale": 18017.032681047018
   },
   {
    "level": 15,
    "resolution": 2.383503281763512,
    "scale": 9008.516340523509
   },
   {
    "level": 16,
    "resolution": 1.191751640881756,
    "scale": 4504.2581702617545
   },
   {
    "level": 17,
    "resolution": 0.595875820440878,
    "scale": 2252.1290851308772
   },
   {
    "level": 18,
    "resolution": 0.297937910220439,
    "scale": 1126.0645425654386
   },
   {
    "level": 19,
    "resolution": 0.1489689551102195,
    "scale": 563.0322712827193
   },
   {
    "level": 20,
    "resolution": 0.07448447755510974,
    "scale": 281.51613564135965
   },
   {
    "level": 21,
    "resolution": 0.03724223877755487,
    "scale": 140.75806782067983
   },
   {
    "level": 22,
    "resolution": 0.018621119388777436,
    "scale": 70.37903391033991
   },
   {
    "level": 23,
    "resolution": 0.009310559694388718,
    "scale": 35.18951695516996
   }
  ]
 },
 "storageInfo": {
  "storageFormat": "esriMapCacheStorageModeCompactV2",
  "packetSize": 128
 },
 "initialExtent": {
  "xmin": -424654.74403792084,
  "ymin": 443512.12773876474,
  "xmax": 900490.7440379208,
  "ymax": 1307042.172261236,
  "spatialReference": {
   "wkid": 27700,
   "latestWkid": 27700,
   "xyTolerance": 0.001,
   "zTolerance": 0.001,
   "mTolerance": 0.001,
   "falseX": -5220400,
   "falseY": -15524400,
   "xyUnits": 10000,
   "falseZ": -100000,
   "zUnits": 10000,
   "falseM": -100000,
   "mUnits": 10000
  }
 },
 "fullExtent": {
  "xmin": 5513,
  "ymin": 530252.8000000007,
  "xmax": 470323,
  "ymax": 1220301.5,
  "spatialReference": {
   "wkid": 27700,
   "latestWkid": 27700,
   "xyTolerance": 0.001,
   "zTolerance": 0.001,
   "mTolerance": 0.001,
   "falseX": -5220400,
   "falseY": -15524400,
   "xyUnits": 10000,
   "falseZ": -100000,
   "zUnits": 10000,
   "falseM": -100000,
   "mUnits": 10000
  }
 },
 "datesInUnknownTimezone": false,
 "minScale": 4612360.366348037,
 "maxScale": 18017.032681047018,
 "minLOD": 6,
 "maxLOD": 14,
 "units": "esriMeters",
 "supportedImageFormatTypes": "PNG32,PNG24,PNG,JPG,DIB,TIFF,EMF,PS,PDF,GIF,SVG,SVGZ,BMP",
 "documentInfo": {
  "Title": "SIMD2020",
  "Author": "",
  "Comments": "The Scottish Index of Multiple Deprivation (SIMD) 2020 is the Scottish Government\u2019s official tool for identifying concentrations of deprivation in Scotland. SIMD20 is the Scottish Government\u2019s sixth edition since 2004. The Scottish Index of Multiple Deprivation (SIMD) combines seven different domains (aspects) of deprivation: income; employment; health; education, skills and training; geographic access to services; crime; and housing. These domains are measured using a number of indicators to form ranks for each domain. Data zones are ranked from 1 being most deprived to 6,976 being least deprived. Each of the seven domain ranks are then combined to form the overall SIMD. This provides a measure of relative deprivation at data zone level, so it tells you that one data zone is relatively more deprived than another but not how much more deprived.",
  "Subject": "The Scottish Index of Multiple Deprivation (SIMD) is the Scottish Government's official tool for identifying those places in Scotland suffering from deprivation. This edition was published in 2020 and ranks 2011 Data Zones from most to least deprived (with a rank of 1 being the most deprived to 6,976 being the least deprived) across 7 domains.",
  "Category": "",
  "Version": "3.5.0",
  "AntialiasingMode": "Fast",
  "TextAntialiasingMode": "Force",
  "Keywords": "social inequality,social issues,life in the community,population distribution - demography,deprivation"
 },
 "supportsQueryDomains": true,
 "capabilities": "Map,Query,Data,TileMap",
 "supportedQueryFormats": "JSON, geoJSON, PBF",
 "exportTilesAllowed": false,
 "referenceScale": 0.0,
 "datumTransformations": [
  {
   "geoTransforms": [
    {
     "wkid": 1149,
     "latestWkid": 1149,
     "transformForward": false,
     "name": "ETRS_1989_To_WGS_1984"
    },
    {
     "wkid": 5338,
     "latestWkid": 5338,
     "transformForward": false,
     "name": "OSGB_1936_To_ETRS_1989_1"
    }
   ]
  },
  {
   "geoTransforms": [
    {
     "wkid": 5338,
     "latestWkid": 5338,
     "transformForward": true,
     "name": "OSGB_1936_To_ETRS_1989_1"
    },
    {
     "wkid": 1149,
     "latestWkid": 1149,
     "transformForward": true,
     "name": "ETRS_1989_To_WGS_1984"
    }
   ]
  },
  {
   "geoTransforms": [
    {
     "wkid": 1149,
     "latestWkid": 1149,
     "transformForward": false,
     "name": "ETRS_1989_To_WGS_1984"
    },
    {
     "wkid": 5338,
     "latestWkid": 5338,
     "transformForward": false,
     "name": "OSGB_1936_To_ETRS_1989_1"
    }
   ]
  },
  {
   "geoTransforms": [
    {
     "wkid": 5338,
     "latestWkid": 5338,
     "transformForward": true,
     "name": "OSGB_1936_To_ETRS_1989_1"
    },
    {
     "wkid": 1149,
     "latestWkid": 1149,
     "transformForward": true,
     "name": "ETRS_1989_To_WGS_1984"
    }
   ]
  }
 ],
 "supportsDatumTransformation": true,
 "archivingInfo": {
  "supportsHistoricMoment": false
 },
 "supportsClipping": true,
 "supportsSpatialFilter": true,
 "supportsTimeRelation": true,
 "supportsQueryDataElements": true,
 "mapUnits": {
  "uwkid": 9001
 },
 "maxSelectionCount": 2000,
 "maxRecordCount": 7000,
 "maxImageHeight": 4096,
 "maxImageWidth": 4096,
 "supportedExtensions": "OGCFeatureServer, WFSServer, WMSServer"
}
