View In:
ArcGIS JavaScript
ArcGIS Online Map Viewer
ArcGIS Earth
ArcGIS Pro
Service Description: <div style='text-align:Left;font-size:12pt'><p><span>The Scottish Government's Urban Rural Classification provides a consistent way of defining urban and rural areas across Scotland. The classification aids policy development and the understanding of issues facing urban, rural and remote communities. It is based upon two main criteria:</span></p><p><span /></p><p><span>(i) population as defined by National Records of Scotland (NRS), and </span></p><p><span /></p><p><span>(ii) accessibility based on drive time analysis to differentiate between accessible and remote areas in Scotland. </span></p><p><span /></p><p><span>The classification can be analysed in a two, three, six or eight fold form. The two-fold classification simply distinguishes between urban and rural areas through two categories, urban and rural, while the three-fold classification splits the rural category between accessible and remote. Most commonly used is the 6-fold classification which distinguishes between urban, rural, and remote areas through six categories. The 8-fold classification further distinguishes between remote and very remote regions.</span></p><p><span /></p><p><span>The Classification is normally updated on a biennial basis, with the current dataset reflective of the year 2022. Data for previous versions are available for download in ESRI Shapefile format.</span></p></div>
Map Name: UrbanRural
Legend
All Layers and Tables
Dynamic Legend
Dynamic All Layers
Layers:
Description: The Scottish Government's Urban Rural Classification provides a consistent way of defining urban and rural areas across Scotland. The classification aids policy development and the understanding of issues facing urban, rural and remote communities. It is based upon two main criteria:(i) population as defined by National Records of Scotland (NRS), and (ii) accessibility based on drive time analysis to differentiate between accessible and remote areas in Scotland. The classification can be analysed in a two, three, six or eight fold form. The two-fold classification simply distinguishes between urban and rural areas through two categories, urban and rural, while the three-fold classification splits the rural category between accessible and remote. Most commonly used is the 6-fold classification which distinguishes between urban, rural, and remote areas through six categories. The 8-fold classification further distinguishes between remote and very remote regions.The Classification is normally updated on a biennial basis, with the current dataset reflective of the year 2022. Data for previous versions are available for download in ESRI Shapefile format.
Copyright Text: © Scottish Government, contains Ordnance Survey data © Crown copyright and database right 2024.
Spatial Reference:
27700
(27700)
LatestVCSWkid(0)
Single Fused Map Cache: true
Tile Info:
- Height: 256.0
- Width: 256.0
- DPI: 96.0
-
Levels of Detail: 24
-
Level ID: 0
[ Start Tile, End Tile ]
- Resolution: 78102.63553682675
- Scale: 2.9519106344627434E8
-
Level ID: 1
[ Start Tile, End Tile ]
- Resolution: 39051.31776841338
- Scale: 1.4759553172313717E8
-
Level ID: 2
[ Start Tile, End Tile ]
- Resolution: 19525.65888420669
- Scale: 7.379776586156859E7
-
Level ID: 3
[ Start Tile, End Tile ]
- Resolution: 9762.829442103344
- Scale: 3.689888293078429E7
-
Level ID: 4
[ Start Tile, End Tile ]
- Resolution: 4881.414721051672
- Scale: 1.8449441465392146E7
-
Level ID: 5
[ Start Tile, End Tile ]
- Resolution: 2440.707360525836
- Scale: 9224720.732696073
-
Level ID: 6
[ Start Tile, End Tile ]
- Resolution: 1220.353680262918
- Scale: 4612360.366348037
-
Level ID: 7
[ Start Tile, End Tile ]
- Resolution: 610.176840131459
- Scale: 2306180.1831740183
-
Level ID: 8
[ Start Tile, End Tile ]
- Resolution: 305.0884200657295
- Scale: 1153090.0915870091
-
Level ID: 9
[ Start Tile, End Tile ]
- Resolution: 152.54421003286475
- Scale: 576545.0457935046
-
Level ID: 10
[ Start Tile, End Tile ]
- Resolution: 76.27210501643238
- Scale: 288272.5228967523
-
Level ID: 11
[ Start Tile, End Tile ]
- Resolution: 38.13605250821619
- Scale: 144136.26144837614
-
Level ID: 12
[ Start Tile, End Tile ]
- Resolution: 19.068026254108094
- Scale: 72068.13072418807
-
Level ID: 13
[ Start Tile, End Tile ]
- Resolution: 9.534013127054047
- Scale: 36034.065362094036
-
Level ID: 14
[ Start Tile, End Tile ]
- Resolution: 4.767006563527024
- Scale: 18017.032681047018
-
Level ID: 15
[ Start Tile, End Tile ]
- Resolution: 2.383503281763512
- Scale: 9008.516340523509
-
Level ID: 16
[ Start Tile, End Tile ]
- Resolution: 1.191751640881756
- Scale: 4504.2581702617545
-
Level ID: 17
[ Start Tile, End Tile ]
- Resolution: 0.595875820440878
- Scale: 2252.1290851308772
-
Level ID: 18
[ Start Tile, End Tile ]
- Resolution: 0.297937910220439
- Scale: 1126.0645425654386
-
Level ID: 19
[ Start Tile, End Tile ]
- Resolution: 0.1489689551102195
- Scale: 563.0322712827193
-
Level ID: 20
[ Start Tile, End Tile ]
- Resolution: 0.07448447755510974
- Scale: 281.51613564135965
-
Level ID: 21
[ Start Tile, End Tile ]
- Resolution: 0.03724223877755487
- Scale: 140.75806782067983
-
Level ID: 22
[ Start Tile, End Tile ]
- Resolution: 0.018621119388777436
- Scale: 70.37903391033991
-
Level ID: 23
[ Start Tile, End Tile ]
- Resolution: 0.009310559694388718
- Scale: 35.18951695516996
- Format: PNG
- Compression Quality: 0.0
- Origin: X: -9597137.348713825
Y: 4470073.533885086
- Spatial Reference: 27700
(27700)
LatestVCSWkid(0)
Storage Info:
- Storage Format: esriMapCacheStorageModeCompactV2
- Packet Size: 128
Initial Extent:
XMin: -364341.01771803445
YMin: 522058.1837110874
XMax: 840177.016318034
YMax: 1228497.0965889134
Spatial Reference: 27700
(27700)
LatestVCSWkid(0)
Full Extent:
XMin: 5512.998499999754
YMin: 530253.7782000005
XMax: 470323.00009999983
YMax: 1220301.5021000002
Spatial Reference: 27700
(27700)
LatestVCSWkid(0)
Units: esriMeters
Supported Image Format Types: PNG32,PNG24,PNG,JPG,DIB,TIFF,EMF,PS,PDF,GIF,SVG,SVGZ,BMP
Document Info:
Title: Urban Rural Classification - Scotland
Author:
Comments: The Scottish Government's Urban Rural Classification provides a consistent way of defining urban and rural areas across Scotland. The classification aids policy development and the understanding of issues facing urban, rural and remote communities. It is based upon two main criteria:(i) population as defined by National Records of Scotland (NRS), and (ii) accessibility based on drive time analysis to differentiate between accessible and remote areas in Scotland. The classification can be analysed in a two, three, six or eight fold form. The two-fold classification simply distinguishes between urban and rural areas through two categories, urban and rural, while the three-fold classification splits the rural category between accessible and remote. Most commonly used is the 6-fold classification which distinguishes between urban, rural, and remote areas through six categories. The 8-fold classification further distinguishes between remote and very remote regions.The Classification is normally updated on a biennial basis, with the current dataset reflective of the year 2022. Data for previous versions are available for download in ESRI Shapefile format.
Subject: Digital boundaries for the current version of the Scottish Government's Urban Rural Classification, which provides a consistent way of defining urban and rural areas across Scotland. The classification aids policy development and the understanding of issues facing urban, rural and remote communities.
Category:
Keywords: Rural communities,Urban communities,urban area,rural area,Population distribution — demography
AntialiasingMode: Fast
TextAntialiasingMode: Force
Supports Dynamic Layers: true
Resampling: false
MaxRecordCount: 2000
MaxSelectionCount: 2000
MaxImageHeight: 4096
MaxImageWidth: 4096
Supported Query Formats: JSON, geoJSON, PBF
Supports Query Data Elements: true
Min Scale: 4612360.366348037
Max Scale: 18017.032681047018
Min LOD: 6
Max LOD: 14
Supports Datum Transformation: true
Child Resources:
Info
Dynamic Layer
Supported Operations:
Export Map
Identify
QueryLegends
QueryDomains
Find
Return Updates