View In:
ArcGIS JavaScript
ArcGIS Online Map Viewer
ArcGIS Earth
ArcGIS Pro
Service Description: <div style='text-align:Left;font-size:12pt'><p><span>The </span><a href='https://www.gov.scot/isbn/9781807755676' style='text-decoration:underline;'><span>Scottish Bracken Map </span></a><span>provides a baseline for monitoring the distribution of bracken (Pteridium aquilinum) at 10 metre resolution across Scotland. It was commissioned by the Scottish Government following the ban on usage of the herbicide Asulam, and supported by the </span><a href='https://www.gov.scot/groups/bracken-scottish-working-group/' style='text-decoration:underline;'><span>Scottish Bracken Working Group </span></a><span>as part of their aim to address key evidence gaps relating to the extent and management of bracken in Scotland. The dataset is intended to support monitoring, land management, environmental assessment and future updates of national bracken extent.</span></p><p><span /></p><p><span>The dataset is supplied as two related outputs:</span></p><p><span /></p><p><span>- Bracken Classification: a binary map identifying areas predicted to contain bracken vegetation.</span></p><p><span /></p><p><span>- Bracken Probability: a continuous raster showing the modelled probability (0-100%) of bracken presence for each 10 m pixel, allowing users to apply alternative thresholds according to their requirements.</span></p><p><span /></p><p><span>The Bracken Map was derived using Earth Observation and machine learning techniques applied to 2024 satellite and environmental data. The model was based on summer and autumn composites of Sentinel-1 radar imagery and Sentinel-2 optical imagery (NDVI maximum composites), elevation and canopy height data, and training data from field surveys and habitat mapping sources.</span></p><p><span /></p><p><span>The final classification achieved an overall accuracy of approximately 85% (88% recall and 79% precision) and identified around 208,000 hectares of bracken across Scotland.</span></p></div>
Map Name: BrackenClassification
Legend
All Layers and Tables
Dynamic Legend
Dynamic All Layers
Layers:
Description: The Scottish Bracken Map provides a baseline for monitoring the distribution of bracken (Pteridium aquilinum) at 10 metre resolution across Scotland. It was commissioned by the Scottish Government following the ban on usage of the herbicide Asulam, and supported by the Scottish Bracken Working Group as part of their aim to address key evidence gaps relating to the extent and management of bracken in Scotland. The dataset is intended to support monitoring, land management, environmental assessment and future updates of national bracken extent.The dataset is supplied as two related outputs:- Bracken Classification: a binary map identifying areas predicted to contain bracken vegetation.- Bracken Probability: a continuous raster showing the modelled probability (0-100%) of bracken presence for each 10 m pixel, allowing users to apply alternative thresholds according to their requirements.The Bracken Map was derived using Earth Observation and machine learning techniques applied to 2024 satellite and environmental data. The model was based on summer and autumn composites of Sentinel-1 radar imagery and Sentinel-2 optical imagery (NDVI maximum composites), elevation and canopy height data, and training data from field surveys and habitat mapping sources.The final classification achieved an overall accuracy of approximately 85% (88% recall and 79% precision) and identified around 208,000 hectares of bracken across Scotland.
Copyright Text: © Scottish Government, Crown copyright and database right 2026.
Spatial Reference:
27700
(27700)
LatestVCSWkid(0)
Single Fused Map Cache: true
Tile Info:
- Height: 256.0
- Width: 256.0
- DPI: 96.0
-
Levels of Detail: 24
-
Level ID: 0
[ Start Tile, End Tile ]
- Resolution: 78102.63553682675
- Scale: 2.9519106344627434E8
-
Level ID: 1
[ Start Tile, End Tile ]
- Resolution: 39051.31776841338
- Scale: 1.4759553172313717E8
-
Level ID: 2
[ Start Tile, End Tile ]
- Resolution: 19525.65888420669
- Scale: 7.379776586156859E7
-
Level ID: 3
[ Start Tile, End Tile ]
- Resolution: 9762.829442103344
- Scale: 3.689888293078429E7
-
Level ID: 4
[ Start Tile, End Tile ]
- Resolution: 4881.414721051672
- Scale: 1.8449441465392146E7
-
Level ID: 5
[ Start Tile, End Tile ]
- Resolution: 2440.707360525836
- Scale: 9224720.732696073
-
Level ID: 6
[ Start Tile, End Tile ]
- Resolution: 1220.353680262918
- Scale: 4612360.366348037
-
Level ID: 7
[ Start Tile, End Tile ]
- Resolution: 610.176840131459
- Scale: 2306180.1831740183
-
Level ID: 8
[ Start Tile, End Tile ]
- Resolution: 305.0884200657295
- Scale: 1153090.0915870091
-
Level ID: 9
[ Start Tile, End Tile ]
- Resolution: 152.54421003286475
- Scale: 576545.0457935046
-
Level ID: 10
[ Start Tile, End Tile ]
- Resolution: 76.27210501643238
- Scale: 288272.5228967523
-
Level ID: 11
[ Start Tile, End Tile ]
- Resolution: 38.13605250821619
- Scale: 144136.26144837614
-
Level ID: 12
[ Start Tile, End Tile ]
- Resolution: 19.068026254108094
- Scale: 72068.13072418807
-
Level ID: 13
[ Start Tile, End Tile ]
- Resolution: 9.534013127054047
- Scale: 36034.065362094036
-
Level ID: 14
[ Start Tile, End Tile ]
- Resolution: 4.767006563527024
- Scale: 18017.032681047018
-
Level ID: 15
[ Start Tile, End Tile ]
- Resolution: 2.383503281763512
- Scale: 9008.516340523509
-
Level ID: 16
[ Start Tile, End Tile ]
- Resolution: 1.191751640881756
- Scale: 4504.2581702617545
-
Level ID: 17
[ Start Tile, End Tile ]
- Resolution: 0.595875820440878
- Scale: 2252.1290851308772
-
Level ID: 18
[ Start Tile, End Tile ]
- Resolution: 0.297937910220439
- Scale: 1126.0645425654386
-
Level ID: 19
[ Start Tile, End Tile ]
- Resolution: 0.1489689551102195
- Scale: 563.0322712827193
-
Level ID: 20
[ Start Tile, End Tile ]
- Resolution: 0.07448447755510974
- Scale: 281.51613564135965
-
Level ID: 21
[ Start Tile, End Tile ]
- Resolution: 0.03724223877755487
- Scale: 140.75806782067983
-
Level ID: 22
[ Start Tile, End Tile ]
- Resolution: 0.018621119388777436
- Scale: 70.37903391033991
-
Level ID: 23
[ Start Tile, End Tile ]
- Resolution: 0.009310559694388718
- Scale: 35.18951695516996
- Format: Mixed
- Compression Quality: 75.0
- Origin: X: -9597137.348713825
Y: 4470073.533885086
- Spatial Reference: 27700
(27700)
LatestVCSWkid(0)
Storage Info:
- Storage Format: esriMapCacheStorageModeCompactV2
- Packet Size: 128
Initial Extent:
XMin: -88673.1342105263
YMin: 495747.00000000006
XMax: 564523.1342105262
YMax: 1254813.0
Spatial Reference: 27700
(27700)
LatestVCSWkid(0)
Full Extent:
XMin: 5510.0
YMin: 530250.0
XMax: 470340.0
YMax: 1220310.0
Spatial Reference: 27700
(27700)
LatestVCSWkid(0)
Units: esriMeters
Supported Image Format Types: PNG32,PNG24,PNG,JPG,DIB,TIFF,EMF,PS,PDF,GIF,SVG,SVGZ,BMP
Document Info:
Title: Scottish Bracken Classification 2024
Author:
Comments: The Scottish Bracken Map provides a baseline for monitoring the distribution of bracken (Pteridium aquilinum) at 10 metre resolution across Scotland. It was commissioned by the Scottish Government following the ban on usage of the herbicide Asulam, and supported by the Scottish Bracken Working Group as part of their aim to address key evidence gaps relating to the extent and management of bracken in Scotland. The dataset is intended to support monitoring, land management, environmental assessment and future updates of national bracken extent.The dataset is supplied as two related outputs:- Bracken Classification: a binary map identifying areas predicted to contain bracken vegetation.- Bracken Probability: a continuous raster showing the modelled probability (0-100%) of bracken presence for each 10 m pixel, allowing users to apply alternative thresholds according to their requirements.The Bracken Map was derived using Earth Observation and machine learning techniques applied to 2024 satellite and environmental data. The model was based on summer and autumn composites of Sentinel-1 radar imagery and Sentinel-2 optical imagery (NDVI maximum composites), elevation and canopy height data, and training data from field surveys and habitat mapping sources.The final classification achieved an overall accuracy of approximately 85% (88% recall and 79% precision) and identified around 208,000 hectares of bracken across Scotland.
Subject: This dataset provides 10m resolution mapping of the probability of bracken presence in Scotland in 2024. It was commissioned by the Scottish Government as part of the Scottish Bracken Map publication in order to monitor the environmental and landscape impacts of bracken and help to quantify efforts to control it.
Category:
Keywords: Bracken,fern,land cover,remote sensing,undergrowth,vegetation,weed
AntialiasingMode: Fast
TextAntialiasingMode: Force
Supports Dynamic Layers: true
MaxRecordCount: 2000
MaxSelectionCount: 2000
MaxImageHeight: 4096
MaxImageWidth: 4096
Supported Query Formats: JSON, geoJSON, PBF
Supports Query Data Elements: true
Min Scale: 1.8449441465392146E7
Max Scale: 18017.032681047018
Min LOD: 4
Max LOD: 14
Supports Datum Transformation: true
Child Resources:
Info
Dynamic Layer
Supported Operations:
Export Map
Identify
QueryLegends
QueryDomains
Find
Return Updates